BEGIN:VCALENDAR
VERSION:2.0
PRODID:-//Plone.org//NONSGML plone.app.event//EN
X-WR-TIMEZONE:Brazil/East
BEGIN:VEVENT
SUMMARY:REUNIÃO COM ASSESSORIA DO VEREADOR ANDERSON SALES - BOKÃO.
DTSTART;TZID=Brazil/East;VALUE=DATE-TIME:20171006T160000
DTEND;TZID=Brazil/East;VALUE=DATE-TIME:20171006T180000
DTSTAMP;VALUE=DATE-TIME:20260421T124926Z
UID:e45a08f4774c49489746afe389b39db1@www.goiania.go.leg.br
CONTACT:VEREADOR ANDERSON SALES - BOKÃO
CREATED;VALUE=DATE-TIME:20171006T102847Z
LAST-MODIFIED;VALUE=DATE-TIME:20171006T102900Z
LOCATION:SALA DE REUNIÃO DAS COMISSÕES
URL:https://www.goiania.go.leg.br/institucional/eventos/reuniao-com-assess
 oria-do-vereador-anderson-sales-bokao-1
END:VEVENT
BEGIN:VTIMEZONE
TZID:Brazil/East
X-LIC-LOCATION:Brazil/East
BEGIN:STANDARD
DTSTART;VALUE=DATE-TIME:20170218T230000
TZNAME:BRT
TZOFFSETFROM:-0200
TZOFFSETTO:-0300
END:STANDARD
END:VTIMEZONE
END:VCALENDAR
