BEGIN:VCALENDAR
VERSION:2.0
PRODID:-//Plone.org//NONSGML plone.app.event//EN
X-WR-TIMEZONE:Brazil/East
BEGIN:VEVENT
SUMMARY:REUNIÃO COM ASSESSORIA DO GABINETE DO VEREADOR ANDERSON SALES - B
 OKÃO.
DTSTART;TZID=Brazil/East;VALUE=DATE-TIME:20171101T160000
DTEND;TZID=Brazil/East;VALUE=DATE-TIME:20171101T180000
DTSTAMP;VALUE=DATE-TIME:20260421T155112Z
UID:cc2a47d009064539b537dbf7cdfb8e3f@www.goiania.go.leg.br
CONTACT:VEREADOR ANDERSON SALES - BOKÃO
CREATED;VALUE=DATE-TIME:20171027T135933Z
LAST-MODIFIED;VALUE=DATE-TIME:20171027T135940Z
LOCATION:SALA DE REUNIÃO DAS COMISSÕES
URL:https://www.goiania.go.leg.br/institucional/eventos/reuniao-com-assess
 oria-do-gabinete-do-vereador-anderson-sales-bokao
END:VEVENT
BEGIN:VTIMEZONE
TZID:Brazil/East
X-LIC-LOCATION:Brazil/East
BEGIN:DAYLIGHT
DTSTART;VALUE=DATE-TIME:20171015T010000
TZNAME:BRST
TZOFFSETFROM:-0300
TZOFFSETTO:-0200
END:DAYLIGHT
END:VTIMEZONE
END:VCALENDAR
