BEGIN:VCALENDAR
VERSION:2.0
PRODID:-//Plone.org//NONSGML plone.app.event//EN
X-WR-TIMEZONE:Brazil/East
BEGIN:VEVENT
SUMMARY:REUNIÃO COM ASSESSORES DO GABINETE DO VEREADOR VINICIUS CIRQUEIRA
 .
DTSTART;TZID=Brazil/East;VALUE=DATE-TIME:20170802T140000
DTEND;TZID=Brazil/East;VALUE=DATE-TIME:20170802T170000
DTSTAMP;VALUE=DATE-TIME:20260421T042838Z
UID:56ddb5d72af24d8ab761bcf42e4efd61@www.goiania.go.leg.br
CONTACT:VEREADOR VINICIUS CIRQUEIRA
CREATED;VALUE=DATE-TIME:20170801T112539Z
LAST-MODIFIED;VALUE=DATE-TIME:20170801T112544Z
LOCATION:SALA DE REUNIÃO DAS COMISSÕES
URL:https://www.goiania.go.leg.br/institucional/eventos/reuniao-com-assess
 ores-do-gabinete-do-vereador-vinicius-cirqueira
END:VEVENT
BEGIN:VTIMEZONE
TZID:Brazil/East
X-LIC-LOCATION:Brazil/East
BEGIN:STANDARD
DTSTART;VALUE=DATE-TIME:20170218T230000
TZNAME:BRT
TZOFFSETFROM:-0200
TZOFFSETTO:-0300
END:STANDARD
END:VTIMEZONE
END:VCALENDAR
