BEGIN:VCALENDAR
VERSION:2.0
PRODID:-//Plone.org//NONSGML plone.app.event//EN
X-WR-TIMEZONE:Brazil/East
BEGIN:VEVENT
SUMMARY:REUNIÃO COM ACADÊMICOS DE DIVERSAS FACULDADES GOIANAS PARA DISCU
 TIREM O PROCESSO LEGISLATIVO.
DTSTART;TZID=Brazil/East;VALUE=DATE-TIME:20170818T083000
DTEND;TZID=Brazil/East;VALUE=DATE-TIME:20170818T120000
DTSTAMP;VALUE=DATE-TIME:20260421T013132Z
UID:215d4904901a4bbaa63d56e899d62478@www.goiania.go.leg.br
CONTACT:VEREADORA SABRINA GARCÊZ
CREATED;VALUE=DATE-TIME:20170612T113530Z
LAST-MODIFIED;VALUE=DATE-TIME:20170612T113604Z
LOCATION:AUDITÓRIO CARLOS EURICO
URL:https://www.goiania.go.leg.br/institucional/eventos/reuniao-com-academ
 icos-de-diversas-faculdades-goianas-para-discutirem-o-processo-legislativo
END:VEVENT
BEGIN:VTIMEZONE
TZID:Brazil/East
X-LIC-LOCATION:Brazil/East
BEGIN:STANDARD
DTSTART;VALUE=DATE-TIME:20170218T230000
TZNAME:BRT
TZOFFSETFROM:-0200
TZOFFSETTO:-0300
END:STANDARD
END:VTIMEZONE
END:VCALENDAR
