BEGIN:VCALENDAR
VERSION:2.0
PRODID:-//Plone.org//NONSGML plone.app.event//EN
X-WR-TIMEZONE:Brazil/East
BEGIN:VEVENT
SUMMARY:REUNIÃO COM A DEFENSORIA PÚBLICA NO ATENDIMENTO A PESSOA IDOSA.
DTSTART;TZID=Brazil/East;VALUE=DATE-TIME:20170313T143000
DTEND;TZID=Brazil/East;VALUE=DATE-TIME:20170313T170000
DTSTAMP;VALUE=DATE-TIME:20260420T131721Z
UID:d8c0c69689484df4a51985d2785fc91e@www.goiania.go.leg.br
CONTACT:VEREADOR PAULO MAGALHÃES
CREATED;VALUE=DATE-TIME:20170309T144540Z
LAST-MODIFIED;VALUE=DATE-TIME:20170309T144545Z
LOCATION:SALA DE REUINÕES DAS COMISSÕES
URL:https://www.goiania.go.leg.br/institucional/eventos/reuniao-com-a-defe
 nsoria-publica-no-atendimento-a-pessoa-idosa
END:VEVENT
BEGIN:VTIMEZONE
TZID:Brazil/East
X-LIC-LOCATION:Brazil/East
BEGIN:STANDARD
DTSTART;VALUE=DATE-TIME:20170218T230000
TZNAME:BRT
TZOFFSETFROM:-0200
TZOFFSETTO:-0300
END:STANDARD
END:VTIMEZONE
END:VCALENDAR
