BEGIN:VCALENDAR
VERSION:2.0
PRODID:-//Plone.org//NONSGML plone.app.event//EN
X-WR-TIMEZONE:Brazil/East
BEGIN:VEVENT
SUMMARY:REUNIÃO COM A COMISSÃO DE MORADORES DO SETOR JAÓ.
DTSTART;TZID=Brazil/East;VALUE=DATE-TIME:20170328T143000
DTEND;TZID=Brazil/East;VALUE=DATE-TIME:20170328T160000
DTSTAMP;VALUE=DATE-TIME:20260420T151218Z
UID:fca77dc18e714533b395db361882c353@www.goiania.go.leg.br
CONTACT:VEREADOR CARLIN CAFE
CREATED;VALUE=DATE-TIME:20170328T104538Z
LAST-MODIFIED;VALUE=DATE-TIME:20170328T104546Z
LOCATION:AUDITÓRIO CARLOS EURICO
URL:https://www.goiania.go.leg.br/institucional/eventos/reuniao-com-a-comi
 ssao-de-moradores-do-setor-jao
END:VEVENT
BEGIN:VTIMEZONE
TZID:Brazil/East
X-LIC-LOCATION:Brazil/East
BEGIN:STANDARD
DTSTART;VALUE=DATE-TIME:20170218T230000
TZNAME:BRT
TZOFFSETFROM:-0200
TZOFFSETTO:-0300
END:STANDARD
END:VTIMEZONE
END:VCALENDAR
