BEGIN:VCALENDAR
VERSION:2.0
PRODID:-//Plone.org//NONSGML plone.app.event//EN
X-WR-TIMEZONE:Brazil/East
BEGIN:VEVENT
SUMMARY:REUNIÃO COM A ASSESSORIA E SEUS APOIADORES.
DTSTART;TZID=Brazil/East;VALUE=DATE-TIME:20160629T120000
DTEND;TZID=Brazil/East;VALUE=DATE-TIME:20160629T220000
DTSTAMP;VALUE=DATE-TIME:20260420T020632Z
UID:c484fa12f70a42789f1c7bb258c89cf9@www.goiania.go.leg.br
CONTACT:VEREADOR DJALMA ARAÚJO
CREATED;VALUE=DATE-TIME:20160629T110222Z
LAST-MODIFIED;VALUE=DATE-TIME:20160629T110229Z
LOCATION:AUDITÓRIO CARLOS EURICO
URL:https://www.goiania.go.leg.br/institucional/eventos/reuniao-com-a-asse
 ssoria-e-seus-apoiadores
END:VEVENT
BEGIN:VTIMEZONE
TZID:Brazil/East
X-LIC-LOCATION:Brazil/East
BEGIN:STANDARD
DTSTART;VALUE=DATE-TIME:20160220T230000
TZNAME:BRT
TZOFFSETFROM:-0200
TZOFFSETTO:-0300
END:STANDARD
END:VTIMEZONE
END:VCALENDAR
