BEGIN:VCALENDAR
VERSION:2.0
PRODID:-//Plone.org//NONSGML plone.app.event//EN
X-WR-TIMEZONE:Brazil/East
BEGIN:VEVENT
SUMMARY:REUNIÃO COM A ASSESSORIA DA VEREADORA DOUTORA CRISTINA LOPES AFON
 SO.
DTSTART;TZID=Brazil/East;VALUE=DATE-TIME:20170905T180000
DTEND;TZID=Brazil/East;VALUE=DATE-TIME:20170905T220000
DTSTAMP;VALUE=DATE-TIME:20260423T065926Z
UID:0038327a432a4714b78dc82a25e3526c@www.goiania.go.leg.br
CONTACT:VEREADORA DRA. CRISTINA LOPES AFONSO
CREATED;VALUE=DATE-TIME:20170822T100310Z
LAST-MODIFIED;VALUE=DATE-TIME:20170830T113017Z
LOCATION:SALA DE REUNIÃO DAS COMISSÕES
URL:https://www.goiania.go.leg.br/institucional/eventos/reuniao-com-a-asse
 ssoria-da-vereadora-doutora-cristina-lopes-afonso
END:VEVENT
BEGIN:VTIMEZONE
TZID:Brazil/East
X-LIC-LOCATION:Brazil/East
BEGIN:STANDARD
DTSTART;VALUE=DATE-TIME:20170218T230000
TZNAME:BRT
TZOFFSETFROM:-0200
TZOFFSETTO:-0300
END:STANDARD
END:VTIMEZONE
END:VCALENDAR
