BEGIN:VCALENDAR
VERSION:2.0
PRODID:-//Plone.org//NONSGML plone.app.event//EN
X-WR-TIMEZONE:Brazil/East
BEGIN:VEVENT
SUMMARY:REALIZAÇÃO DO PROJETO HUMANA MENTE\, QUE OBJETIVO DE REUNIR OS F
 OTÓGRAFOS PROFISSIONAIS E CINEGRAFISTAS DE GOIÂNIA E REGIÃO.
DTSTART;TZID=Brazil/East;VALUE=DATE-TIME:20161025T180000
DTEND;TZID=Brazil/East;VALUE=DATE-TIME:20161025T223000
DTSTAMP;VALUE=DATE-TIME:20260420T043022Z
UID:f3a38114e4f1428db2ce2c9ecf190455@www.goiania.go.leg.br
CONTACT:VEREADOR ANSELMO PEREIRA
CREATED;VALUE=DATE-TIME:20161010T111015Z
LAST-MODIFIED;VALUE=DATE-TIME:20161010T111020Z
LOCATION:AUDITÓRIO JAIME CÂMARA
URL:https://www.goiania.go.leg.br/institucional/eventos/realizacao-do-proj
 eto-humana-mente-que-objetivo-de-reunir-os-fotografos-profissionais-e-cine
 grafistas-de-goiania-e-regiao
END:VEVENT
BEGIN:VTIMEZONE
TZID:Brazil/East
X-LIC-LOCATION:Brazil/East
BEGIN:DAYLIGHT
DTSTART;VALUE=DATE-TIME:20161016T010000
TZNAME:BRST
TZOFFSETFROM:-0300
TZOFFSETTO:-0200
END:DAYLIGHT
END:VTIMEZONE
END:VCALENDAR
