BEGIN:VCALENDAR
VERSION:2.0
PRODID:-//Plone.org//NONSGML plone.app.event//EN
X-WR-TIMEZONE:Brazil/East
BEGIN:VEVENT
SUMMARY:REALIZAÇÃO DO "I ENCONTRO BRASILEIRO DE EMPREENDEDORISMO NA PSIC
 OLOGIA".
DTSTART;TZID=Brazil/East;VALUE=DATE-TIME:20171125T073000
DTEND;TZID=Brazil/East;VALUE=DATE-TIME:20171125T200000
DTSTAMP;VALUE=DATE-TIME:20260421T093030Z
UID:0b3498edd2794dc9ac340b99294d5c5b@www.goiania.go.leg.br
CONTACT:VEREADOR ANSELMO PEREIRA
CREATED;VALUE=DATE-TIME:20170904T134558Z
LAST-MODIFIED;VALUE=DATE-TIME:20170904T134607Z
LOCATION:AUDITÓRIO CARLOS EURICO
URL:https://www.goiania.go.leg.br/institucional/eventos/realizacao-do-i-en
 contro-brasileiro-de-empreendedorismo-na-psicologia
END:VEVENT
BEGIN:VTIMEZONE
TZID:Brazil/East
X-LIC-LOCATION:Brazil/East
BEGIN:DAYLIGHT
DTSTART;VALUE=DATE-TIME:20171015T010000
TZNAME:BRST
TZOFFSETFROM:-0300
TZOFFSETTO:-0200
END:DAYLIGHT
END:VTIMEZONE
END:VCALENDAR
