BEGIN:VCALENDAR
VERSION:2.0
PRODID:-//Plone.org//NONSGML plone.app.event//EN
X-WR-TIMEZONE:Brazil/East
BEGIN:VEVENT
SUMMARY:REALIZAÇÃO DE UMA PLENÁRIA DO CONAM.
DTSTART;TZID=Brazil/East;VALUE=DATE-TIME:20170905T190000
DTEND;TZID=Brazil/East;VALUE=DATE-TIME:20170905T210000
DTSTAMP;VALUE=DATE-TIME:20260421T080709Z
UID:d50dae2a917e494d8c76090b69b5f50b@www.goiania.go.leg.br
CONTACT:VEREADOR PAULINHO GRAUS
CREATED;VALUE=DATE-TIME:20170828T144636Z
LAST-MODIFIED;VALUE=DATE-TIME:20170828T144644Z
LOCATION:AUDITÓRIO CARLOS EURICO
URL:https://www.goiania.go.leg.br/institucional/eventos/realizacao-de-uma-
 plenaria-do-conam
END:VEVENT
BEGIN:VTIMEZONE
TZID:Brazil/East
X-LIC-LOCATION:Brazil/East
BEGIN:STANDARD
DTSTART;VALUE=DATE-TIME:20170218T230000
TZNAME:BRT
TZOFFSETFROM:-0200
TZOFFSETTO:-0300
END:STANDARD
END:VTIMEZONE
END:VCALENDAR
