BEGIN:VCALENDAR
VERSION:2.0
PRODID:-//Plone.org//NONSGML plone.app.event//EN
X-WR-TIMEZONE:Brazil/East
BEGIN:VEVENT
SUMMARY:REALIZAÇÃO DE CULTO EVANGÉLICO SEMANAL.
DTSTART;TZID=Brazil/East;VALUE=DATE-TIME:20170926T080000
DTEND;TZID=Brazil/East;VALUE=DATE-TIME:20170926T084000
DTSTAMP;VALUE=DATE-TIME:20260421T055334Z
UID:a20aa9227e3f40aca2d56960b5e4b36c@www.goiania.go.leg.br
CONTACT:VEREADORA LÉIA KLEBIA
CREATED;VALUE=DATE-TIME:20170815T122241Z
LAST-MODIFIED;VALUE=DATE-TIME:20170815T122250Z
LOCATION:AUDITÓRIO CARLOS EURICO
URL:https://www.goiania.go.leg.br/institucional/eventos/realizacao-de-cult
 o-evangelico-semanal-7
END:VEVENT
BEGIN:VTIMEZONE
TZID:Brazil/East
X-LIC-LOCATION:Brazil/East
BEGIN:STANDARD
DTSTART;VALUE=DATE-TIME:20170218T230000
TZNAME:BRT
TZOFFSETFROM:-0200
TZOFFSETTO:-0300
END:STANDARD
END:VTIMEZONE
END:VCALENDAR
