BEGIN:VCALENDAR
VERSION:2.0
PRODID:-//Plone.org//NONSGML plone.app.event//EN
X-WR-TIMEZONE:Brazil/East
BEGIN:VEVENT
SUMMARY:REALIZAÇÃO DE CULTO EVANGÉLICO SEMANAL.
DTSTART;TZID=Brazil/East;VALUE=DATE-TIME:20171114T080000
DTEND;TZID=Brazil/East;VALUE=DATE-TIME:20171114T084000
DTSTAMP;VALUE=DATE-TIME:20260421T060118Z
UID:4f0bbc3cd6ab41e5af369fe894cb7671@www.goiania.go.leg.br
CONTACT:VEREADORA LÉIA KLEBIA
CREATED;VALUE=DATE-TIME:20170815T124054Z
LAST-MODIFIED;VALUE=DATE-TIME:20170815T124059Z
LOCATION:AUDITÓRIO CARLOS EURICO
URL:https://www.goiania.go.leg.br/institucional/eventos/realizacao-de-cult
 o-evangelico-semanal-13
END:VEVENT
BEGIN:VTIMEZONE
TZID:Brazil/East
X-LIC-LOCATION:Brazil/East
BEGIN:DAYLIGHT
DTSTART;VALUE=DATE-TIME:20171015T010000
TZNAME:BRST
TZOFFSETFROM:-0300
TZOFFSETTO:-0200
END:DAYLIGHT
END:VTIMEZONE
END:VCALENDAR
