BEGIN:VCALENDAR
VERSION:2.0
PRODID:-//Plone.org//NONSGML plone.app.event//EN
X-WR-TIMEZONE:Brazil/East
BEGIN:VEVENT
SUMMARY:REALIZAÇÃO DE CULTO EVANGÉLICO SEMANAL.
DTSTART;TZID=Brazil/East;VALUE=DATE-TIME:20171031T080000
DTEND;TZID=Brazil/East;VALUE=DATE-TIME:20171031T084000
DTSTAMP;VALUE=DATE-TIME:20260421T055433Z
UID:f9c88e36054a46d0a1689f66c9b2c0ea@www.goiania.go.leg.br
CONTACT:VEREADORA LÉIA KLEBIA
CREATED;VALUE=DATE-TIME:20170815T123136Z
LAST-MODIFIED;VALUE=DATE-TIME:20170815T123144Z
LOCATION:AUDITÓRIO CARLOS EURICO
URL:https://www.goiania.go.leg.br/institucional/eventos/realizacao-de-cult
 o-evangelico-semanal-11
END:VEVENT
BEGIN:VTIMEZONE
TZID:Brazil/East
X-LIC-LOCATION:Brazil/East
BEGIN:DAYLIGHT
DTSTART;VALUE=DATE-TIME:20171015T010000
TZNAME:BRST
TZOFFSETFROM:-0300
TZOFFSETTO:-0200
END:DAYLIGHT
END:VTIMEZONE
END:VCALENDAR
