BEGIN:VCALENDAR
VERSION:2.0
PRODID:-//Plone.org//NONSGML plone.app.event//EN
X-WR-TIMEZONE:Brazil/East
BEGIN:VEVENT
SUMMARY:REALIZAÇÃO DE CULTO EVANGÉLICO SEMANAL.
DTSTART;TZID=Brazil/East;VALUE=DATE-TIME:20170822T080000
DTEND;TZID=Brazil/East;VALUE=DATE-TIME:20170822T084000
DTSTAMP;VALUE=DATE-TIME:20260421T052056Z
UID:56f8b450e2b84a0da457cb74aa6dc420@www.goiania.go.leg.br
CONTACT:VEREADORA LÉIA KLEBIA
CREATED;VALUE=DATE-TIME:20170815T121501Z
LAST-MODIFIED;VALUE=DATE-TIME:20170815T121507Z
LOCATION:AUDITÓRIO CARLOS EURICO
URL:https://www.goiania.go.leg.br/institucional/eventos/realizacao-de-cult
 o-evangelico-semanal-1
END:VEVENT
BEGIN:VTIMEZONE
TZID:Brazil/East
X-LIC-LOCATION:Brazil/East
BEGIN:STANDARD
DTSTART;VALUE=DATE-TIME:20170218T230000
TZNAME:BRT
TZOFFSETFROM:-0200
TZOFFSETTO:-0300
END:STANDARD
END:VTIMEZONE
END:VCALENDAR
