BEGIN:VCALENDAR
VERSION:2.0
PRODID:-//Plone.org//NONSGML plone.app.event//EN
X-WR-TIMEZONE:Brazil/East
BEGIN:VEVENT
SUMMARY:PRESTAÇÃO DE CONTAS DO SECRETÁRIO MUNICIPAL DA SAÚDE.
DTSTART;TZID=Brazil/East;VALUE=DATE-TIME:20161118T080000
DTEND;TZID=Brazil/East;VALUE=DATE-TIME:20161118T120000
DTSTAMP;VALUE=DATE-TIME:20260420T082244Z
UID:10873b5fe42a4206a8ed9986b29d07bb@www.goiania.go.leg.br
CONTACT:VEREADOR DR. BERNARDO DO CAIS
CREATED;VALUE=DATE-TIME:20161109T110902Z
LAST-MODIFIED;VALUE=DATE-TIME:20161109T110913Z
LOCATION:SALA DE REUNIÕES DE COMISSÕES
URL:https://www.goiania.go.leg.br/institucional/eventos/prestacao-de-conta
 s-do-secretario-municipal-da-saude
END:VEVENT
BEGIN:VTIMEZONE
TZID:Brazil/East
X-LIC-LOCATION:Brazil/East
BEGIN:DAYLIGHT
DTSTART;VALUE=DATE-TIME:20161016T010000
TZNAME:BRST
TZOFFSETFROM:-0300
TZOFFSETTO:-0200
END:DAYLIGHT
END:VTIMEZONE
END:VCALENDAR
