BEGIN:VCALENDAR
VERSION:2.0
PRODID:-//Plone.org//NONSGML plone.app.event//EN
X-WR-TIMEZONE:Brazil/East
BEGIN:VEVENT
SUMMARY:PRESTAÇÃO DE CONTAS DO PREFEITO PAULO GARCIA.
DTSTART;TZID=Brazil/East;VALUE=DATE-TIME:20160627T090000
DTEND;TZID=Brazil/East;VALUE=DATE-TIME:20160627T120000
DTSTAMP;VALUE=DATE-TIME:20260419T231300Z
UID:30439163d25b465c958e817758a7a500@www.goiania.go.leg.br
CONTACT:COMISSÃO MISTA
CREATED;VALUE=DATE-TIME:20160616T141134Z
LAST-MODIFIED;VALUE=DATE-TIME:20160616T141140Z
LOCATION:PLENÁRIO TRAJANO GUIMARÃES
URL:https://www.goiania.go.leg.br/institucional/eventos/prestacao-de-conta
 s-do-prefeito-paulo-garcia
END:VEVENT
BEGIN:VTIMEZONE
TZID:Brazil/East
X-LIC-LOCATION:Brazil/East
BEGIN:STANDARD
DTSTART;VALUE=DATE-TIME:20160220T230000
TZNAME:BRT
TZOFFSETFROM:-0200
TZOFFSETTO:-0300
END:STANDARD
END:VTIMEZONE
END:VCALENDAR
