BEGIN:VCALENDAR
VERSION:2.0
PRODID:-//Plone.org//NONSGML plone.app.event//EN
X-WR-TIMEZONE:Brazil/East
BEGIN:VEVENT
SUMMARY:PALESTRAS JUNTO A FACULDADE UNIVERSO PARA A CONCLUSÃO DO CURSO DE
  FARMÁCIA.
DTSTART;TZID=Brazil/East;VALUE=DATE-TIME:20170503T070000
DTEND;TZID=Brazil/East;VALUE=DATE-TIME:20170503T220000
DTSTAMP;VALUE=DATE-TIME:20260420T214124Z
UID:9c0d05943b2744e7b9e1c01d87ce0be1@www.goiania.go.leg.br
CONTACT:VEREADOR ZANDER FÁBIO
CREATED;VALUE=DATE-TIME:20170419T110646Z
LAST-MODIFIED;VALUE=DATE-TIME:20170419T110651Z
LOCATION:AUDITÓRIO CARLOS EURICO
URL:https://www.goiania.go.leg.br/institucional/eventos/palestras-junto-a-
 faculdade-universo-para-a-conclusao-do-curso-de-farmacia-1
END:VEVENT
BEGIN:VTIMEZONE
TZID:Brazil/East
X-LIC-LOCATION:Brazil/East
BEGIN:STANDARD
DTSTART;VALUE=DATE-TIME:20170218T230000
TZNAME:BRT
TZOFFSETFROM:-0200
TZOFFSETTO:-0300
END:STANDARD
END:VTIMEZONE
END:VCALENDAR
