BEGIN:VCALENDAR
VERSION:2.0
PRODID:-//Plone.org//NONSGML plone.app.event//EN
X-WR-TIMEZONE:Brazil/East
BEGIN:VEVENT
SUMMARY:PALESTRAS E DEBATES SOBRE AJUDA FAMILIAR.
DTSTART;TZID=Brazil/East;VALUE=DATE-TIME:20170507T080000
DTEND;TZID=Brazil/East;VALUE=DATE-TIME:20170507T120000
DTSTAMP;VALUE=DATE-TIME:20260420T224939Z
UID:471bb9935503482ab78cde158214fb0a@www.goiania.go.leg.br
CONTACT:VEREADOR MILTON MERCEZ
CREATED;VALUE=DATE-TIME:20170505T105826Z
LAST-MODIFIED;VALUE=DATE-TIME:20170505T105835Z
LOCATION:SALA DE REUNIÃO DAS COMISSÕES
URL:https://www.goiania.go.leg.br/institucional/eventos/palestras-e-debate
 s-sobre-ajuda-familiar-5
END:VEVENT
BEGIN:VTIMEZONE
TZID:Brazil/East
X-LIC-LOCATION:Brazil/East
BEGIN:STANDARD
DTSTART;VALUE=DATE-TIME:20170218T230000
TZNAME:BRT
TZOFFSETFROM:-0200
TZOFFSETTO:-0300
END:STANDARD
END:VTIMEZONE
END:VCALENDAR
