BEGIN:VCALENDAR
VERSION:2.0
PRODID:-//Plone.org//NONSGML plone.app.event//EN
X-WR-TIMEZONE:Brazil/East
BEGIN:VEVENT
SUMMARY:PALESTRAS COM TEMAS SOBRE PROFISSÕES COM INFLUÊNCIA NA TECNOLOGI
 A EMPREGABILIDADE MERCADO DE TRABALHO.
DTSTART;TZID=Brazil/East;VALUE=DATE-TIME:20161001T090000
DTEND;TZID=Brazil/East;VALUE=DATE-TIME:20161001T140000
DTSTAMP;VALUE=DATE-TIME:20260420T042511Z
UID:5f07bcd71dee48da9669720d92e66d0c@www.goiania.go.leg.br
CONTACT:VEREADOR FÁBIO CAIXETA
CREATED;VALUE=DATE-TIME:20160927T110055Z
LAST-MODIFIED;VALUE=DATE-TIME:20160927T110103Z
LOCATION:AUDITÓRIO JAIME CÂMARA
URL:https://www.goiania.go.leg.br/institucional/eventos/palestras-com-tema
 s-sobre-profissoes-com-influencia-na-tecnologia-empregabilidade-mercado-de
 -trabalho
END:VEVENT
BEGIN:VTIMEZONE
TZID:Brazil/East
X-LIC-LOCATION:Brazil/East
BEGIN:STANDARD
DTSTART;VALUE=DATE-TIME:20160220T230000
TZNAME:BRT
TZOFFSETFROM:-0200
TZOFFSETTO:-0300
END:STANDARD
END:VTIMEZONE
END:VCALENDAR
