BEGIN:VCALENDAR
VERSION:2.0
PRODID:-//Plone.org//NONSGML plone.app.event//EN
X-WR-TIMEZONE:Brazil/East
BEGIN:VEVENT
SUMMARY:PALESTRA GRATUITA COM A GESTORA GERAL DA UNIDADE DE SAÚDE CAPS CA
 SA ) CENTRO DE ATENÇÃO PSICOSSOCIAL).
DTSTART;TZID=Brazil/East;VALUE=DATE-TIME:20170825T083000
DTEND;TZID=Brazil/East;VALUE=DATE-TIME:20170825T120000
DTSTAMP;VALUE=DATE-TIME:20260421T030352Z
UID:de30a1cacf2e4d1aa9695632690c1c34@www.goiania.go.leg.br
CONTACT:VEREADOR ZANDER FÁBIO
CREATED;VALUE=DATE-TIME:20170623T142112Z
LAST-MODIFIED;VALUE=DATE-TIME:20170623T142117Z
LOCATION:AUDITÓRIO CARLOS EURICO
URL:https://www.goiania.go.leg.br/institucional/eventos/palestra-gratuita-
 com-a-gestora-geral-da-unidade-de-saude-caps-casa-centro-de-atencao-psicos
 social
END:VEVENT
BEGIN:VTIMEZONE
TZID:Brazil/East
X-LIC-LOCATION:Brazil/East
BEGIN:STANDARD
DTSTART;VALUE=DATE-TIME:20170218T230000
TZNAME:BRT
TZOFFSETFROM:-0200
TZOFFSETTO:-0300
END:STANDARD
END:VTIMEZONE
END:VCALENDAR
