BEGIN:VCALENDAR
VERSION:2.0
PRODID:-//Plone.org//NONSGML plone.app.event//EN
X-WR-TIMEZONE:Brazil/East
BEGIN:VEVENT
SUMMARY:PALESTRA E WORSHOP PARA ESTUDANTES DE DIREITO.
DTSTART;TZID=Brazil/East;VALUE=DATE-TIME:20160618T080000
DTEND;TZID=Brazil/East;VALUE=DATE-TIME:20160618T120000
DTSTAMP;VALUE=DATE-TIME:20260419T232640Z
UID:aa8c56b751f34b8a98429f85c1642af0@www.goiania.go.leg.br
CONTACT:VEREADOR DENÍCIO TRINDADE
CREATED;VALUE=DATE-TIME:20160613T112631Z
LAST-MODIFIED;VALUE=DATE-TIME:20160613T112639Z
LOCATION:AUDITÓRIO JAIME CÂMARA
URL:https://www.goiania.go.leg.br/institucional/eventos/palestra-e-worshop
 -para-estudantes-de-direito
END:VEVENT
BEGIN:VTIMEZONE
TZID:Brazil/East
X-LIC-LOCATION:Brazil/East
BEGIN:STANDARD
DTSTART;VALUE=DATE-TIME:20160220T230000
TZNAME:BRT
TZOFFSETFROM:-0200
TZOFFSETTO:-0300
END:STANDARD
END:VTIMEZONE
END:VCALENDAR
