BEGIN:VCALENDAR
VERSION:2.0
PRODID:-//Plone.org//NONSGML plone.app.event//EN
X-WR-TIMEZONE:Brazil/East
BEGIN:VEVENT
SUMMARY:PALESTRA COM O TEMA "ABORTO\, A CULTURA DA MORTE".
DTSTART;TZID=Brazil/East;VALUE=DATE-TIME:20171111T140000
DTEND;TZID=Brazil/East;VALUE=DATE-TIME:20171111T180000
DTSTAMP;VALUE=DATE-TIME:20260421T164303Z
UID:fc4f5243673e425cac7989c6ce396361@www.goiania.go.leg.br
CONTACT:VEREADOR KLEYBE MORAIS
CREATED;VALUE=DATE-TIME:20171031T112227Z
LAST-MODIFIED;VALUE=DATE-TIME:20171031T112233Z
LOCATION:AUDITÓRIO CARLOS EURICO
URL:https://www.goiania.go.leg.br/institucional/eventos/palestra-com-o-tem
 a-aborto-a-cultura-da-morte
END:VEVENT
BEGIN:VTIMEZONE
TZID:Brazil/East
X-LIC-LOCATION:Brazil/East
BEGIN:DAYLIGHT
DTSTART;VALUE=DATE-TIME:20171015T010000
TZNAME:BRST
TZOFFSETFROM:-0300
TZOFFSETTO:-0200
END:DAYLIGHT
END:VTIMEZONE
END:VCALENDAR
