BEGIN:VCALENDAR
VERSION:2.0
PRODID:-//Plone.org//NONSGML plone.app.event//EN
X-WR-TIMEZONE:Brazil/East
BEGIN:VEVENT
SUMMARY:PALESTRA BENEFICENTE DE CONSCIENTIZAÇÃO E PREVENÇÃO DO CÂNCER
  DE MAMA.
DTSTART;TZID=Brazil/East;VALUE=DATE-TIME:20161021T183000
DTEND;TZID=Brazil/East;VALUE=DATE-TIME:20161021T220000
DTSTAMP;VALUE=DATE-TIME:20260420T042431Z
UID:f67efdfd59ba4872be57900d1da209a6@www.goiania.go.leg.br
CONTACT:VEREADOR CARLOS SOARES
CREATED;VALUE=DATE-TIME:20160922T141602Z
LAST-MODIFIED;VALUE=DATE-TIME:20160922T141608Z
LOCATION:AUDITÓRIO JAIME CÂMARA
URL:https://www.goiania.go.leg.br/institucional/eventos/palestra-beneficen
 te-de-conscientizacao-e-prevencao-do-cancer-de-mama
END:VEVENT
BEGIN:VTIMEZONE
TZID:Brazil/East
X-LIC-LOCATION:Brazil/East
BEGIN:DAYLIGHT
DTSTART;VALUE=DATE-TIME:20161016T010000
TZNAME:BRST
TZOFFSETFROM:-0300
TZOFFSETTO:-0200
END:DAYLIGHT
END:VTIMEZONE
END:VCALENDAR
