BEGIN:VCALENDAR
VERSION:2.0
PRODID:-//Plone.org//NONSGML plone.app.event//EN
X-WR-TIMEZONE:Brazil/East
BEGIN:VEVENT
SUMMARY:ORIENTAÇÕES ADMINISTRATIVAS À ASSESSORES E ESTAGIÁRIOS INGRESS
 ANTES.
DTSTART;TZID=Brazil/East;VALUE=DATE-TIME:20170315T080000
DTEND;TZID=Brazil/East;VALUE=DATE-TIME:20170315T180000
DTSTAMP;VALUE=DATE-TIME:20260420T115603Z
UID:0c53c5928e6a4d44b0c1dd87fcc8094a@www.goiania.go.leg.br
CONTACT:SENHOR LUIZ LIBÂNEO
CREATED;VALUE=DATE-TIME:20170303T123719Z
LAST-MODIFIED;VALUE=DATE-TIME:20170303T123725Z
LOCATION:ADUTÓRIO CARLOS EURICO
URL:https://www.goiania.go.leg.br/institucional/eventos/orientacoes-admini
 strativas-a-assessores-e-estagiarios-ingressantes-2
END:VEVENT
BEGIN:VTIMEZONE
TZID:Brazil/East
X-LIC-LOCATION:Brazil/East
BEGIN:STANDARD
DTSTART;VALUE=DATE-TIME:20170218T230000
TZNAME:BRT
TZOFFSETFROM:-0200
TZOFFSETTO:-0300
END:STANDARD
END:VTIMEZONE
END:VCALENDAR
