BEGIN:VCALENDAR
VERSION:2.0
PRODID:-//Plone.org//NONSGML plone.app.event//EN
X-WR-TIMEZONE:Brazil/East
BEGIN:VEVENT
SUMMARY:OFICINA DE TRABALHO DO ROTARY INTERNACIONAL DO DISTRITO 4530.
DTSTART;TZID=Brazil/East;VALUE=DATE-TIME:20161106T073000
DTEND;TZID=Brazil/East;VALUE=DATE-TIME:20161106T130000
DTSTAMP;VALUE=DATE-TIME:20260420T053522Z
UID:5c5f4c431d8f4e158f3c04970b8b64d3@www.goiania.go.leg.br
CONTACT:VEREADOR ANSELMO PEREIRA
CREATED;VALUE=DATE-TIME:20161026T093215Z
LAST-MODIFIED;VALUE=DATE-TIME:20161026T093223Z
LOCATION:AUDITÓRIO CARLOS EURICO
URL:https://www.goiania.go.leg.br/institucional/eventos/oficina-de-trabalh
 o-do-rotary-internacional-do-distrito-4530
END:VEVENT
BEGIN:VTIMEZONE
TZID:Brazil/East
X-LIC-LOCATION:Brazil/East
BEGIN:DAYLIGHT
DTSTART;VALUE=DATE-TIME:20161016T010000
TZNAME:BRST
TZOFFSETFROM:-0300
TZOFFSETTO:-0200
END:DAYLIGHT
END:VTIMEZONE
END:VCALENDAR
