BEGIN:VCALENDAR
VERSION:2.0
PRODID:-//Plone.org//NONSGML plone.app.event//EN
X-WR-TIMEZONE:Brazil/East
BEGIN:VEVENT
SUMMARY:O DIA DA CONSCIENTIZAÇÃO NO ÂMBITO DO MUNICÍPIO DE GOIÂNIA.
DTSTART;TZID=Brazil/East;VALUE=DATE-TIME:20171128T080000
DTEND;TZID=Brazil/East;VALUE=DATE-TIME:20171128T120000
DTSTAMP;VALUE=DATE-TIME:20260421T141226Z
UID:f73762172acf49909bb9f7eac7dee1a2@www.goiania.go.leg.br
CONTACT:VEREADOR ANSELMO PEREIRA
CREATED;VALUE=DATE-TIME:20171016T085927Z
LAST-MODIFIED;VALUE=DATE-TIME:20171016T085938Z
LOCATION:AUDITÓRIO CARLOS EURICO
URL:https://www.goiania.go.leg.br/institucional/eventos/o-dia-da-conscient
 izacao-no-ambito-do-municipio-de-goiania
END:VEVENT
BEGIN:VTIMEZONE
TZID:Brazil/East
X-LIC-LOCATION:Brazil/East
BEGIN:DAYLIGHT
DTSTART;VALUE=DATE-TIME:20171015T010000
TZNAME:BRST
TZOFFSETFROM:-0300
TZOFFSETTO:-0200
END:DAYLIGHT
END:VTIMEZONE
END:VCALENDAR
