BEGIN:VCALENDAR
VERSION:2.0
PRODID:-//Plone.org//NONSGML plone.app.event//EN
X-WR-TIMEZONE:Brazil/East
BEGIN:VEVENT
SUMMARY:O ADVENTURE SCHOOL DO CONHECIMENTO É UMA COMPETIÇÃO ENTRE OS CO
 LÉGIOS ADVENTISTAS DA CIDADES.
DTSTART;TZID=Brazil/East;VALUE=DATE-TIME:20170920T140000
DTEND;TZID=Brazil/East;VALUE=DATE-TIME:20170920T180000
DTSTAMP;VALUE=DATE-TIME:20260420T131743Z
UID:66687d56c87a4596a1de8ddbfb7f4f1d@www.goiania.go.leg.br
CONTACT:VEREADOR ANDREY AZEREDO
CREATED;VALUE=DATE-TIME:20170314T104941Z
LAST-MODIFIED;VALUE=DATE-TIME:20170314T104949Z
LOCATION:AUDITÓRIO JAIME CÂMARA
URL:https://www.goiania.go.leg.br/institucional/eventos/o-adventure-school
 -do-conhecimento-e-uma-competicao-entre-os-colegios-adventistas-da-cidades
END:VEVENT
BEGIN:VTIMEZONE
TZID:Brazil/East
X-LIC-LOCATION:Brazil/East
BEGIN:STANDARD
DTSTART;VALUE=DATE-TIME:20170218T230000
TZNAME:BRT
TZOFFSETFROM:-0200
TZOFFSETTO:-0300
END:STANDARD
END:VTIMEZONE
END:VCALENDAR
