BEGIN:VCALENDAR
VERSION:2.0
PRODID:-//Plone.org//NONSGML plone.app.event//EN
X-WR-TIMEZONE:Brazil/East
BEGIN:VEVENT
SUMMARY:MINICURSOS E SEMINÁRIOS " A COMPETÊNCIA TRIBUTÁRIA MUNICIPAL E 
 OS TRIBUTOS MUNICIPAIS".
DTSTART;TZID=Brazil/East;VALUE=DATE-TIME:20160902T083000
DTEND;TZID=Brazil/East;VALUE=DATE-TIME:20160902T123000
DTSTAMP;VALUE=DATE-TIME:20260419T232758Z
UID:7d8c6cf04297436eb4392ed8ac2b6e88@www.goiania.go.leg.br
CONTACT:A
CREATED;VALUE=DATE-TIME:20160621T125949Z
LAST-MODIFIED;VALUE=DATE-TIME:20160621T125953Z
LOCATION:AUDITÓRIO CARLOS EURICO
URL:https://www.goiania.go.leg.br/institucional/eventos/minicursos-e-semin
 arios-a-competencia-tributaria-municipal-e-os-tributos-municipais
END:VEVENT
BEGIN:VTIMEZONE
TZID:Brazil/East
X-LIC-LOCATION:Brazil/East
BEGIN:STANDARD
DTSTART;VALUE=DATE-TIME:20160220T230000
TZNAME:BRT
TZOFFSETFROM:-0200
TZOFFSETTO:-0300
END:STANDARD
END:VTIMEZONE
END:VCALENDAR
