BEGIN:VCALENDAR
VERSION:2.0
PRODID:-//Plone.org//NONSGML plone.app.event//EN
X-WR-TIMEZONE:Brazil/East
BEGIN:VEVENT
SUMMARY:MINICURSO: PROCESSO LEGISLATIVO\, TÉCNICA LEGISLATIVA E REGIMENTO
  INTERNO.
DTSTART;TZID=Brazil/East;VALUE=DATE-TIME:20171117T080000
DTEND;TZID=Brazil/East;VALUE=DATE-TIME:20171117T123000
DTSTAMP;VALUE=DATE-TIME:20260421T141229Z
UID:cfa415ae313e4156af4df39d654822f2@www.goiania.go.leg.br
CONTACT:VEREADOR ANDREY AZEREDO
CREATED;VALUE=DATE-TIME:20171017T120032Z
LAST-MODIFIED;VALUE=DATE-TIME:20171017T120039Z
LOCATION:AUDITÓRIO CARLOS EURICO
URL:https://www.goiania.go.leg.br/institucional/eventos/minicurso-processo
 -legislativo-tecnica-legislativa-e-regimento-interno
END:VEVENT
BEGIN:VTIMEZONE
TZID:Brazil/East
X-LIC-LOCATION:Brazil/East
BEGIN:DAYLIGHT
DTSTART;VALUE=DATE-TIME:20171015T010000
TZNAME:BRST
TZOFFSETFROM:-0300
TZOFFSETTO:-0200
END:DAYLIGHT
END:VTIMEZONE
END:VCALENDAR
