BEGIN:VCALENDAR
VERSION:2.0
PRODID:-//Plone.org//NONSGML plone.app.event//EN
X-WR-TIMEZONE:Brazil/East
BEGIN:VEVENT
SUMMARY:LANÇAMENTO MUNICIPAL DO PROGRAMA ID JOVEM.
DTSTART;TZID=Brazil/East;VALUE=DATE-TIME:20170505T080000
DTEND;TZID=Brazil/East;VALUE=DATE-TIME:20170505T120000
DTSTAMP;VALUE=DATE-TIME:20260420T213220Z
UID:d8e56c56d2344cf1a10b93edb3219e0b@www.goiania.go.leg.br
CONTACT:VEREADOR CLÉCIO ALVES
CREATED;VALUE=DATE-TIME:20170419T145428Z
LAST-MODIFIED;VALUE=DATE-TIME:20170505T115803Z
LOCATION:AUDITÓRIO  CARLOS EURICO
URL:https://www.goiania.go.leg.br/institucional/eventos/lancamento-municip
 al-do-programa-id-jovem
END:VEVENT
BEGIN:VTIMEZONE
TZID:Brazil/East
X-LIC-LOCATION:Brazil/East
BEGIN:STANDARD
DTSTART;VALUE=DATE-TIME:20170218T230000
TZNAME:BRT
TZOFFSETFROM:-0200
TZOFFSETTO:-0300
END:STANDARD
END:VTIMEZONE
END:VCALENDAR
