BEGIN:VCALENDAR
VERSION:2.0
PRODID:-//Plone.org//NONSGML plone.app.event//EN
X-WR-TIMEZONE:Brazil/East
BEGIN:VEVENT
SUMMARY:IX RECITAL SONATA - O PODER DA MÚSICA.
DTSTART;TZID=Brazil/East;VALUE=DATE-TIME:20171111T080000
DTEND;TZID=Brazil/East;VALUE=DATE-TIME:20171111T230000
DTSTAMP;VALUE=DATE-TIME:20260421T094444Z
UID:aaf86cbd446a459eb30c5b7c9d8fc7ea@www.goiania.go.leg.br
CONTACT:VEREADOR ANDREY AZEREDO
CREATED;VALUE=DATE-TIME:20170912T223638Z
LAST-MODIFIED;VALUE=DATE-TIME:20170912T223645Z
LOCATION:AUDITÓRIO JAIME CÂMARA
URL:https://www.goiania.go.leg.br/institucional/eventos/ix-recital-sonata-
 o-poder-da-musica
END:VEVENT
BEGIN:VTIMEZONE
TZID:Brazil/East
X-LIC-LOCATION:Brazil/East
BEGIN:DAYLIGHT
DTSTART;VALUE=DATE-TIME:20171015T010000
TZNAME:BRST
TZOFFSETFROM:-0300
TZOFFSETTO:-0200
END:DAYLIGHT
END:VTIMEZONE
END:VCALENDAR
