BEGIN:VCALENDAR
VERSION:2.0
PRODID:-//Plone.org//NONSGML plone.app.event//EN
X-WR-TIMEZONE:Brazil/East
BEGIN:VEVENT
SUMMARY:II COLÓQUIO POLÍTICAS PÚBLICAS PARA ENVELHECIMENTO ATIVO DO IDO
 SO.
DTSTART;TZID=Brazil/East;VALUE=DATE-TIME:20161107T130000
DTEND;TZID=Brazil/East;VALUE=DATE-TIME:20161107T190000
DTSTAMP;VALUE=DATE-TIME:20260420T042712Z
UID:7adf290b9785468ebe091a196794533b@www.goiania.go.leg.br
CONTACT:VEREADOR PAULO MAGALHÃES
CREATED;VALUE=DATE-TIME:20161007T111022Z
LAST-MODIFIED;VALUE=DATE-TIME:20161007T111028Z
LOCATION:AUDITÓRIO JAIME CÂMARA
URL:https://www.goiania.go.leg.br/institucional/eventos/ii-coloquio-politi
 cas-publicas-para-envelhecimento-ativo-do-idoso
END:VEVENT
BEGIN:VTIMEZONE
TZID:Brazil/East
X-LIC-LOCATION:Brazil/East
BEGIN:DAYLIGHT
DTSTART;VALUE=DATE-TIME:20161016T010000
TZNAME:BRST
TZOFFSETFROM:-0300
TZOFFSETTO:-0200
END:DAYLIGHT
END:VTIMEZONE
END:VCALENDAR
