BEGIN:VCALENDAR
VERSION:2.0
PRODID:-//Plone.org//NONSGML plone.app.event//EN
X-WR-TIMEZONE:Brazil/East
BEGIN:VEVENT
SUMMARY:HOMENAGEM AS MULHERES FARMACÊUTICAS DO MUNICÍPIO DE GOIÂNIA.
DTSTART;TZID=Brazil/East;VALUE=DATE-TIME:20170326T150000
DTEND;TZID=Brazil/East;VALUE=DATE-TIME:20170326T210000
DTSTAMP;VALUE=DATE-TIME:20260420T135356Z
UID:99fe3046375d405b8cb0c0c7ff541a20@www.goiania.go.leg.br
CONTACT:NARA LUIZA DE OLIVEIRA
CREATED;VALUE=DATE-TIME:20170314T151024Z
LAST-MODIFIED;VALUE=DATE-TIME:20170314T151030Z
LOCATION:AUDITÓRIO CARLOS EURICO
URL:https://www.goiania.go.leg.br/institucional/eventos/homenagem-as-mulhe
 res-farmaceuticas-do-municipio-de-goiania
END:VEVENT
BEGIN:VTIMEZONE
TZID:Brazil/East
X-LIC-LOCATION:Brazil/East
BEGIN:STANDARD
DTSTART;VALUE=DATE-TIME:20170218T230000
TZNAME:BRT
TZOFFSETFROM:-0200
TZOFFSETTO:-0300
END:STANDARD
END:VTIMEZONE
END:VCALENDAR
