BEGIN:VCALENDAR
VERSION:2.0
PRODID:-//Plone.org//NONSGML plone.app.event//EN
X-WR-TIMEZONE:Brazil/East
BEGIN:VEVENT
SUMMARY:FORMAÇÃO DE CUIDADORES DA REDE MUNICIPAL DE EDUCAÇÃO.
DTSTART;TZID=Brazil/East;VALUE=DATE-TIME:20170620T070000
DTEND;TZID=Brazil/East;VALUE=DATE-TIME:20170620T180000
DTSTAMP;VALUE=DATE-TIME:20260421T023104Z
UID:9cd1b81484d6442283c9d2842404980b@www.goiania.go.leg.br
CONTACT:VEREADOR ANDREY AZEREDO
CREATED;VALUE=DATE-TIME:20170612T114011Z
LAST-MODIFIED;VALUE=DATE-TIME:20170612T114017Z
LOCATION:AUDITÓRIO JAIME CÂMARA
URL:https://www.goiania.go.leg.br/institucional/eventos/formacao-de-cuidad
 ores-da-rede-municipal-de-educacao
END:VEVENT
BEGIN:VTIMEZONE
TZID:Brazil/East
X-LIC-LOCATION:Brazil/East
BEGIN:STANDARD
DTSTART;VALUE=DATE-TIME:20170218T230000
TZNAME:BRT
TZOFFSETFROM:-0200
TZOFFSETTO:-0300
END:STANDARD
END:VTIMEZONE
END:VCALENDAR
