BEGIN:VCALENDAR
VERSION:2.0
PRODID:-//Plone.org//NONSGML plone.app.event//EN
X-WR-TIMEZONE:Brazil/East
BEGIN:VEVENT
SUMMARY:EXPOSIÇÃO NATALINA.
DTSTART;TZID=Brazil/East;VALUE=DATE-TIME:20171127T080000
DTEND;TZID=Brazil/East;VALUE=DATE-TIME:20171127T180000
DTSTAMP;VALUE=DATE-TIME:20260421T170946Z
UID:c5f752c360684e54a4b1e6406f09357c@www.goiania.go.leg.br
CONTACT:VEREADOR ANSELMO PEREIRA
CREATED;VALUE=DATE-TIME:20171122T141101Z
LAST-MODIFIED;VALUE=DATE-TIME:20171122T141106Z
LOCATION:HALL DE ENTRADA
URL:https://www.goiania.go.leg.br/institucional/eventos/exposicao-natalina
END:VEVENT
BEGIN:VTIMEZONE
TZID:Brazil/East
X-LIC-LOCATION:Brazil/East
BEGIN:DAYLIGHT
DTSTART;VALUE=DATE-TIME:20171015T010000
TZNAME:BRST
TZOFFSETFROM:-0300
TZOFFSETTO:-0200
END:DAYLIGHT
END:VTIMEZONE
END:VCALENDAR
