BEGIN:VCALENDAR
VERSION:2.0
PRODID:-//Plone.org//NONSGML plone.app.event//EN
X-WR-TIMEZONE:Brazil/East
BEGIN:VEVENT
SUMMARY:EXPOSIÇÃO NATALINA.
DTSTART;TZID=Brazil/East;VALUE=DATE-TIME:20171204T080000
DTEND;TZID=Brazil/East;VALUE=DATE-TIME:20171204T180000
DTSTAMP;VALUE=DATE-TIME:20260421T163927Z
UID:81cbaa8161d143e7a7f11b9478b3a30a@www.goiania.go.leg.br
CONTACT:VEREADOR ANSELMO PEREIRA
CREATED;VALUE=DATE-TIME:20171122T141633Z
LAST-MODIFIED;VALUE=DATE-TIME:20171122T141640Z
LOCATION:HALL DE ENTRADA
URL:https://www.goiania.go.leg.br/institucional/eventos/exposicao-natalina
 -7
END:VEVENT
BEGIN:VTIMEZONE
TZID:Brazil/East
X-LIC-LOCATION:Brazil/East
BEGIN:DAYLIGHT
DTSTART;VALUE=DATE-TIME:20171015T010000
TZNAME:BRST
TZOFFSETFROM:-0300
TZOFFSETTO:-0200
END:DAYLIGHT
END:VTIMEZONE
END:VCALENDAR
