BEGIN:VCALENDAR
VERSION:2.0
PRODID:-//Plone.org//NONSGML plone.app.event//EN
X-WR-TIMEZONE:Brazil/East
BEGIN:VEVENT
SUMMARY:EXPOSIÇÃO NATALINA.
DTSTART;TZID=Brazil/East;VALUE=DATE-TIME:20171208T080000
DTEND;TZID=Brazil/East;VALUE=DATE-TIME:20171208T180000
DTSTAMP;VALUE=DATE-TIME:20260421T164034Z
UID:aaefc5d96bff430fa4be91463523fcbd@www.goiania.go.leg.br
CONTACT:VEREADOR ANSELMO PEREIRA
CREATED;VALUE=DATE-TIME:20171122T141921Z
LAST-MODIFIED;VALUE=DATE-TIME:20171122T141926Z
LOCATION:HALL DE ENTRADA
URL:https://www.goiania.go.leg.br/institucional/eventos/exposicao-natalina
 -11
END:VEVENT
BEGIN:VTIMEZONE
TZID:Brazil/East
X-LIC-LOCATION:Brazil/East
BEGIN:DAYLIGHT
DTSTART;VALUE=DATE-TIME:20171015T010000
TZNAME:BRST
TZOFFSETFROM:-0300
TZOFFSETTO:-0200
END:DAYLIGHT
END:VTIMEZONE
END:VCALENDAR
