BEGIN:VCALENDAR
VERSION:2.0
PRODID:-//Plone.org//NONSGML plone.app.event//EN
X-WR-TIMEZONE:Brazil/East
BEGIN:VEVENT
SUMMARY:EXPOSIÇÃO DE TRABALHOS TÉCNICOS VOLTADADOS PARA A FISCALIZAÇÃ
 O DE ATIVIDADES URBANAS DE GOIÂNIA.
DTSTART;TZID=Brazil/East;VALUE=DATE-TIME:20170920T080000
DTEND;TZID=Brazil/East;VALUE=DATE-TIME:20170920T180000
DTSTAMP;VALUE=DATE-TIME:20260421T070620Z
UID:fffe096b589449468c1c45350a7f9996@www.goiania.go.leg.br
CONTACT:VEREADOR ANSELMO PEREIRA
CREATED;VALUE=DATE-TIME:20170822T150250Z
LAST-MODIFIED;VALUE=DATE-TIME:20170822T150255Z
LOCATION:HALL DE ENTRADA
URL:https://www.goiania.go.leg.br/institucional/eventos/exposicao-de-traba
 lhos-tecnicos-voltadados-para-a-fiscalizacao-de-atividades-urbanas-de-goia
 nia-2
END:VEVENT
BEGIN:VTIMEZONE
TZID:Brazil/East
X-LIC-LOCATION:Brazil/East
BEGIN:STANDARD
DTSTART;VALUE=DATE-TIME:20170218T230000
TZNAME:BRT
TZOFFSETFROM:-0200
TZOFFSETTO:-0300
END:STANDARD
END:VTIMEZONE
END:VCALENDAR
