BEGIN:VCALENDAR
VERSION:2.0
PRODID:-//Plone.org//NONSGML plone.app.event//EN
X-WR-TIMEZONE:Brazil/East
BEGIN:VEVENT
SUMMARY:EXPOSIÇÃO DE QUADROS E ESCULTURAS NA SEMANA DE HOMENAGEM AO DIA 
 DO ESPÍRITA.
DTSTART;TZID=Brazil/East;VALUE=DATE-TIME:20170510T080000
DTEND;TZID=Brazil/East;VALUE=DATE-TIME:20170510T180000
DTSTAMP;VALUE=DATE-TIME:20260420T225603Z
UID:ef624e7588194fbfa8cf0a46d702830b@www.goiania.go.leg.br
CONTACT:VEREADOR ZANDER FÁBIO
CREATED;VALUE=DATE-TIME:20170508T131118Z
LAST-MODIFIED;VALUE=DATE-TIME:20170508T131135Z
LOCATION:SAGUÃO DA CASA DE LEIS
URL:https://www.goiania.go.leg.br/institucional/eventos/exposicao-de-quadr
 os-e-esculturas-na-semana-de-homenagem-ao-dia-do-espirita-1
END:VEVENT
BEGIN:VTIMEZONE
TZID:Brazil/East
X-LIC-LOCATION:Brazil/East
BEGIN:STANDARD
DTSTART;VALUE=DATE-TIME:20170218T230000
TZNAME:BRT
TZOFFSETFROM:-0200
TZOFFSETTO:-0300
END:STANDARD
END:VTIMEZONE
END:VCALENDAR
