BEGIN:VCALENDAR
VERSION:2.0
PRODID:-//Plone.org//NONSGML plone.app.event//EN
X-WR-TIMEZONE:Brazil/East
BEGIN:VEVENT
SUMMARY:EXPOSIÇÃO DE QUADROS DE TRABALHOS TÉCNICOS.
DTSTART;TZID=Brazil/East;VALUE=DATE-TIME:20170926T080000
DTEND;TZID=Brazil/East;VALUE=DATE-TIME:20170926T180000
DTSTAMP;VALUE=DATE-TIME:20260421T092827Z
UID:b2713f963270401eaa0d461d7f01465e@www.goiania.go.leg.br
CONTACT:VEREADOR ANSELMO PEREIRA
CREATED;VALUE=DATE-TIME:20170905T124126Z
LAST-MODIFIED;VALUE=DATE-TIME:20170905T124132Z
LOCATION:HALL DE ENTRADA
URL:https://www.goiania.go.leg.br/institucional/eventos/exposicao-de-quadr
 os-de-trabalhos-tecnicos-1
END:VEVENT
BEGIN:VTIMEZONE
TZID:Brazil/East
X-LIC-LOCATION:Brazil/East
BEGIN:STANDARD
DTSTART;VALUE=DATE-TIME:20170218T230000
TZNAME:BRT
TZOFFSETFROM:-0200
TZOFFSETTO:-0300
END:STANDARD
END:VTIMEZONE
END:VCALENDAR
