BEGIN:VCALENDAR
VERSION:2.0
PRODID:-//Plone.org//NONSGML plone.app.event//EN
X-WR-TIMEZONE:Brazil/East
BEGIN:VEVENT
SUMMARY:EXPOSIÇÃO DE QUADROS DA ARTISTA SABRINA GABRIELE DA SILVA.
DTSTART;TZID=Brazil/East;VALUE=DATE-TIME:20170518T080000
DTEND;TZID=Brazil/East;VALUE=DATE-TIME:20170518T180000
DTSTAMP;VALUE=DATE-TIME:20260420T135356Z
UID:00ce56ed0a5c4042ab35b4a72c14babb@www.goiania.go.leg.br
CONTACT:VEREADOR MILTON MERCEZ
CREATED;VALUE=DATE-TIME:20170316T151001Z
LAST-MODIFIED;VALUE=DATE-TIME:20170316T151006Z
LOCATION:HALL DE ENTRADA
URL:https://www.goiania.go.leg.br/institucional/eventos/exposicao-de-quadr
 os-da-artista-sabrina-gabriele-da-silva-3
END:VEVENT
BEGIN:VTIMEZONE
TZID:Brazil/East
X-LIC-LOCATION:Brazil/East
BEGIN:STANDARD
DTSTART;VALUE=DATE-TIME:20170218T230000
TZNAME:BRT
TZOFFSETFROM:-0200
TZOFFSETTO:-0300
END:STANDARD
END:VTIMEZONE
END:VCALENDAR
