BEGIN:VCALENDAR
VERSION:2.0
PRODID:-//Plone.org//NONSGML plone.app.event//EN
X-WR-TIMEZONE:Brazil/East
BEGIN:VEVENT
SUMMARY:EXPOSIÇÃO DE  PINTURAS EM TELA DO ARTISTA PLÁSTICO SENHOR EDUAR
 DO JORDÃO.
DTSTART;TZID=Brazil/East;VALUE=DATE-TIME:20170614T080000
DTEND;TZID=Brazil/East;VALUE=DATE-TIME:20170614T180000
DTSTAMP;VALUE=DATE-TIME:20260421T001738Z
UID:ebe9ec982c0748c9a38e1f310be3da21@www.goiania.go.leg.br
CONTACT:VEREADOR PAULO MAGALHÃES
CREATED;VALUE=DATE-TIME:20170525T113950Z
LAST-MODIFIED;VALUE=DATE-TIME:20170525T113956Z
LOCATION:HALL DE ENTRADA
URL:https://www.goiania.go.leg.br/institucional/eventos/exposicao-de-pintu
 ras-em-tela-do-artista-plastico-senhor-eduardo-jordao-7
END:VEVENT
BEGIN:VTIMEZONE
TZID:Brazil/East
X-LIC-LOCATION:Brazil/East
BEGIN:STANDARD
DTSTART;VALUE=DATE-TIME:20170218T230000
TZNAME:BRT
TZOFFSETFROM:-0200
TZOFFSETTO:-0300
END:STANDARD
END:VTIMEZONE
END:VCALENDAR
