BEGIN:VCALENDAR
VERSION:2.0
PRODID:-//Plone.org//NONSGML plone.app.event//EN
X-WR-TIMEZONE:Brazil/East
BEGIN:VEVENT
SUMMARY:EXPOSIÇÃO DE  PINTURAS EM TELA DO ARTISTA PLÁSTICO SENHOR EDUAR
 DO JORDÃO.
DTSTART;TZID=Brazil/East;VALUE=DATE-TIME:20170612T080000
DTEND;TZID=Brazil/East;VALUE=DATE-TIME:20170612T180000
DTSTAMP;VALUE=DATE-TIME:20260421T001738Z
UID:1af0af5e9fff4259acccd9b7ecaaede2@www.goiania.go.leg.br
CONTACT:VEREADOR PAULO MAGALHÃES
CREATED;VALUE=DATE-TIME:20170525T113805Z
LAST-MODIFIED;VALUE=DATE-TIME:20170525T113813Z
LOCATION:HALL DE ENTRADA
URL:https://www.goiania.go.leg.br/institucional/eventos/exposicao-de-pintu
 ras-em-tela-do-artista-plastico-senhor-eduardo-jordao-5
END:VEVENT
BEGIN:VTIMEZONE
TZID:Brazil/East
X-LIC-LOCATION:Brazil/East
BEGIN:STANDARD
DTSTART;VALUE=DATE-TIME:20170218T230000
TZNAME:BRT
TZOFFSETFROM:-0200
TZOFFSETTO:-0300
END:STANDARD
END:VTIMEZONE
END:VCALENDAR
