BEGIN:VCALENDAR
VERSION:2.0
PRODID:-//Plone.org//NONSGML plone.app.event//EN
X-WR-TIMEZONE:Brazil/East
BEGIN:VEVENT
SUMMARY:EXPOSIÇÃO DE PINTURAS EM TELA DO ARTISTA PLÁSTICO SENHOR EDUARD
 O JORDÃO.
DTSTART;TZID=Brazil/East;VALUE=DATE-TIME:20170512T080000
DTEND;TZID=Brazil/East;VALUE=DATE-TIME:20170512T180000
DTSTAMP;VALUE=DATE-TIME:20260420T205933Z
UID:0f3bc7c12a5547f7914f8735069c792e@www.goiania.go.leg.br
CONTACT:VEREADOR PAULO MAGALHÃES
CREATED;VALUE=DATE-TIME:20170418T112831Z
LAST-MODIFIED;VALUE=DATE-TIME:20170418T112838Z
LOCATION:HALL DE ENTRADA
URL:https://www.goiania.go.leg.br/institucional/eventos/exposicao-de-pintu
 ras-em-tela-do-artista-plastico-senhor-eduardo-jordao-4
END:VEVENT
BEGIN:VTIMEZONE
TZID:Brazil/East
X-LIC-LOCATION:Brazil/East
BEGIN:STANDARD
DTSTART;VALUE=DATE-TIME:20170218T230000
TZNAME:BRT
TZOFFSETFROM:-0200
TZOFFSETTO:-0300
END:STANDARD
END:VTIMEZONE
END:VCALENDAR
