BEGIN:VCALENDAR
VERSION:2.0
PRODID:-//Plone.org//NONSGML plone.app.event//EN
X-WR-TIMEZONE:Brazil/East
BEGIN:VEVENT
SUMMARY:EXPOSIÇÃO DE PINTURAS DO ARTISTA PLÁSTICO DO SENHOR EDUARDO JOR
 DÃO.
DTSTART;TZID=Brazil/East;VALUE=DATE-TIME:20171006T080000
DTEND;TZID=Brazil/East;VALUE=DATE-TIME:20171006T180000
DTSTAMP;VALUE=DATE-TIME:20260421T124409Z
UID:368fd1f540e346f7b1ec3acfc98b4fb4@www.goiania.go.leg.br
CONTACT:VEREADOR PAULO MAGALHÃES
CREATED;VALUE=DATE-TIME:20170926T110916Z
LAST-MODIFIED;VALUE=DATE-TIME:20170926T110924Z
LOCATION:AUDITÓRIO CARLOS EURICO
URL:https://www.goiania.go.leg.br/institucional/eventos/exposicao-de-pintu
 ras-do-artista-plastico-do-senhor-eduardo-jordao-4
END:VEVENT
BEGIN:VTIMEZONE
TZID:Brazil/East
X-LIC-LOCATION:Brazil/East
BEGIN:STANDARD
DTSTART;VALUE=DATE-TIME:20170218T230000
TZNAME:BRT
TZOFFSETFROM:-0200
TZOFFSETTO:-0300
END:STANDARD
END:VTIMEZONE
END:VCALENDAR
