BEGIN:VCALENDAR
VERSION:2.0
PRODID:-//Plone.org//NONSGML plone.app.event//EN
X-WR-TIMEZONE:Brazil/East
BEGIN:VEVENT
SUMMARY:EVENTO PARTIDÁRIO POLÍTICO DO PMB.
DTSTART;TZID=Brazil/East;VALUE=DATE-TIME:20161210T133000
DTEND;TZID=Brazil/East;VALUE=DATE-TIME:20161210T180000
DTSTAMP;VALUE=DATE-TIME:20260422T054706Z
UID:40f8070bf8464054b55921a3d797fae2@www.goiania.go.leg.br
CONTACT:VEREADOR ANSELMO PEREIRA
CREATED;VALUE=DATE-TIME:20161201T101909Z
LAST-MODIFIED;VALUE=DATE-TIME:20161201T101917Z
LOCATION:AUDITÓRIO CARLOS EURICO
URL:https://www.goiania.go.leg.br/institucional/eventos/evento-partidario-
 politico-do-pmb
END:VEVENT
BEGIN:VTIMEZONE
TZID:Brazil/East
X-LIC-LOCATION:Brazil/East
BEGIN:DAYLIGHT
DTSTART;VALUE=DATE-TIME:20161016T010000
TZNAME:BRST
TZOFFSETFROM:-0300
TZOFFSETTO:-0200
END:DAYLIGHT
END:VTIMEZONE
END:VCALENDAR
