BEGIN:VCALENDAR
VERSION:2.0
PRODID:-//Plone.org//NONSGML plone.app.event//EN
X-WR-TIMEZONE:Brazil/East
BEGIN:VEVENT
SUMMARY:ENTREGA DE TÍTULO AO SENHOR WENDER LUCIANO ARAÚJO SILVA.
DTSTART;TZID=Brazil/East;VALUE=DATE-TIME:20171018T193000
DTEND;TZID=Brazil/East;VALUE=DATE-TIME:20171018T220000
DTSTAMP;VALUE=DATE-TIME:20260421T095553Z
UID:3e5c09d2e2c346c59b0ea20f244ff56a@www.goiania.go.leg.br
CONTACT:VEREADOR TIÃOZINHO PORTO
CREATED;VALUE=DATE-TIME:20170904T140037Z
LAST-MODIFIED;VALUE=DATE-TIME:20170904T140608Z
LOCATION:PLENÁRIO TRAJANO GUIMARÃES
URL:https://www.goiania.go.leg.br/institucional/eventos/entrega-de-titulo-
 ao-senhor-wender-luciano-araujo-silva
END:VEVENT
BEGIN:VTIMEZONE
TZID:Brazil/East
X-LIC-LOCATION:Brazil/East
BEGIN:DAYLIGHT
DTSTART;VALUE=DATE-TIME:20171015T010000
TZNAME:BRST
TZOFFSETFROM:-0300
TZOFFSETTO:-0200
END:DAYLIGHT
END:VTIMEZONE
END:VCALENDAR
