BEGIN:VCALENDAR
VERSION:2.0
PRODID:-//Plone.org//NONSGML plone.app.event//EN
X-WR-TIMEZONE:Brazil/East
BEGIN:VEVENT
SUMMARY:ENCONTRO PROS MULHER.
DTSTART;TZID=Brazil/East;VALUE=DATE-TIME:20161203T080000
DTEND;TZID=Brazil/East;VALUE=DATE-TIME:20161203T180000
DTSTAMP;VALUE=DATE-TIME:20260420T053227Z
UID:1f14a483a9484e2cb04ab1f88e7df03c@www.goiania.go.leg.br
CONTACT:VEREADOR DIVINO RODRIGUES
CREATED;VALUE=DATE-TIME:20161020T135710Z
LAST-MODIFIED;VALUE=DATE-TIME:20161020T135716Z
LOCATION:AUDITÓRIO CARLOS EURICO
URL:https://www.goiania.go.leg.br/institucional/eventos/encontro-pros-mulh
 er
END:VEVENT
BEGIN:VTIMEZONE
TZID:Brazil/East
X-LIC-LOCATION:Brazil/East
BEGIN:DAYLIGHT
DTSTART;VALUE=DATE-TIME:20161016T010000
TZNAME:BRST
TZOFFSETFROM:-0300
TZOFFSETTO:-0200
END:DAYLIGHT
END:VTIMEZONE
END:VCALENDAR
