BEGIN:VCALENDAR
VERSION:2.0
PRODID:-//Plone.org//NONSGML plone.app.event//EN
X-WR-TIMEZONE:Brazil/East
BEGIN:VEVENT
SUMMARY:ENCONTRO DO COLÉGIO ADVENTISTA DE GOIÂNIA.
DTSTART;TZID=Brazil/East;VALUE=DATE-TIME:20161117T160000
DTEND;TZID=Brazil/East;VALUE=DATE-TIME:20161117T220000
DTSTAMP;VALUE=DATE-TIME:20260420T065331Z
UID:2886bc451acf4940977a0e2f15d0131d@www.goiania.go.leg.br
CONTACT:VEREADOR ANSELMO PEREIRA
CREATED;VALUE=DATE-TIME:20161116T113527Z
LAST-MODIFIED;VALUE=DATE-TIME:20161116T113535Z
LOCATION:AUDITÓRIO JAIME CÂMARA
URL:https://www.goiania.go.leg.br/institucional/eventos/encontro-do-colegi
 o-adventista-de-goiania
END:VEVENT
BEGIN:VTIMEZONE
TZID:Brazil/East
X-LIC-LOCATION:Brazil/East
BEGIN:DAYLIGHT
DTSTART;VALUE=DATE-TIME:20161016T010000
TZNAME:BRST
TZOFFSETFROM:-0300
TZOFFSETTO:-0200
END:DAYLIGHT
END:VTIMEZONE
END:VCALENDAR
